BEGIN:VCALENDAR
VERSION:2.0
PRODID:icalendar-ruby
CALSCALE:GREGORIAN
METHOD:PUBLISH
BEGIN:VEVENT
DTSTAMP:20200301T151852Z
UID:http://www.malagarealestate.com.au/property?property_id=329258
DTSTART:20190223T110000
DTEND:20190223T113000
CLASS:PUBLIC
CREATED:20190114T124149
DESCRIPTION: 
LAST-MODIFIED:20191203T114122
LOCATION:55 Berkshire Road\, SUNSHINE NORTH VIC 3020\, Australia
SUMMARY:55 Berkshire Road\,  Auction
URL:http://www.malagarealestate.com.au/property?property_id=329258
END:VEVENT
END:VCALENDAR
