BEGIN:VCALENDAR
VERSION:2.0
PRODID:icalendar-ruby
CALSCALE:GREGORIAN
METHOD:PUBLISH
BEGIN:VEVENT
DTSTAMP:20200301T151912Z
UID:http://www.malagarealestate.com.au/property?property_id=338268
DTSTART:20190316T100000
DTEND:20190316T103000
CLASS:PUBLIC
CREATED:20190218T113949
DESCRIPTION: 
LAST-MODIFIED:20191203T104142
LOCATION:11 Myamyn Street\, BRAYBROOK VIC 3019\, Australia
SUMMARY:11 Myamyn Street\,  Auction
URL:http://www.malagarealestate.com.au/property?property_id=338268
END:VEVENT
END:VCALENDAR
