BEGIN:VCALENDAR
VERSION:2.0
PRODID:icalendar-ruby
CALSCALE:GREGORIAN
METHOD:PUBLISH
BEGIN:VEVENT
DTSTAMP:20200301T151745Z
UID:http://www.malagarealestate.com.au/property?property_id=513460
DTSTART:20200222T113000
DTEND:20200222T120000
CLASS:PUBLIC
CREATED:20200113T115259
DESCRIPTION: 
LAST-MODIFIED:20200220T113808
LOCATION:54 Poole Street\, DEER PARK VIC 3023\, Australia
SUMMARY:54 Poole Street\,  Auction
URL:http://www.malagarealestate.com.au/property?property_id=513460
END:VEVENT
END:VCALENDAR
